{"text_format":"1","workbook":"xlsx","n_sheets":29,"sheets":["title","School_Evaluation","Database_All","Select_EditSheet","DATA","Info_a","Info_b","Assessment_PreSchool_DATA","Assessment_DATA","ABC_Preschool1","ABC_Preschool2","ABC_Preschool3","ABC_Preschool4","ABC1","ABC2","ABC3","ABC4","KINOU_Data","HENKA","HENKAPOS","DataBase","KINOU1","KINOU2","KINOU3","KINOU4","SHIEN1","SHIEN2","SHIEN3","SHIEN4"],"not_rendered":{"charts":14,"images":956,"macros":1,"external_links":0,"defined_names":7,"comments":0,"pivot_tables":0},"unopened":[],"bounds":{"document_bytes":16777216,"sheet_cells":100000,"rows_first":2000,"rows_last":500,"rows_between":2000,"halvings":0,"cell_chars":16384,"cell_head_chars":4096},"cells_cut":0,"cells_raw":0,"read":"whole","date_system":"1900"}

{"sheet":"title","index":0,"n_rows":25,"n_cols":2,"rows_kept":25,"cut":false,"hidden":false,"merged":[[21,1,21,19],[22,1,22,18],[24,1,24,19],[23,1,23,16]]}
["1.表紙"]
[]
[]
[]
[]
[]
[]
[]
[]
[]
[]
[]
[]
[]
[]
[null,"●本システムは、JSPS科研費22K02742の助成を受け、行動面の困難を有する児童生徒に有効な支援計画を作成するために開発したものです。"]
[null,"●ご使用は自由ですが、論文や報告書等にまとめられる場合は、以下の引用をお願いします。 "]
[null,"・平澤紀子・笹竹佑太・松下光次郎(2023)機能的アセスメントに基づく行動支援計画作成のためのアシストシステム.　岐阜大学平澤紀子研究室HP 　https://www1.gifu-u.ac.jp/~hirasawa/learning.html"]
[null,"・平澤紀子・笹竹佑太・松下光次郎(2023)機能的アセスメントに基づく行動支援計画作成のためのアシストシステムの開発　行動分析学研究, 38(2)."]
[null,"●本システムを作成するにあたり、以下の文献を参考にしました。"]
[null,"Durand, V.M. & Crimmins, D.B. (1988). Identifying the variables maintaining self-injurious behavior. Journal of Autism and Developmental Disorders, 18, 99-117."]
[null,"平澤紀子(2020). 小学校通常学級における発達障害児の行動問題と有効な支援に関する分析　岐阜大学教育学部研究報告(人文科学),68,121-128."]
[null,"井上雅彦(2012). 強度行動障害の評価尺度と支援手法に関する研究　厚生労働科学研究費補助金障害者対策総合研究事業　平成23年度総括分担研究報告書, p.36.  "]
[null,"O’Neill, R. E., Horner, R. H., Albin, R. W., Sprague, J. R., Storey, K., & Newton, J. S. (1997). Functional assessment and program development for problem behavior:　　 A practical handbook. Pacific Grove: Brooks/Cole Publishing Co."]
[null,"大対香奈子(2016). 通常の学級で支援を必要とする問題行動の機能的アセスメント――小学校と幼稚園の比較――　近畿大学心理臨床・教育相談センター紀要, 創刊号, 1−12."]

{"sheet":"School_Evaluation","index":1,"n_rows":5,"n_cols":7,"rows_kept":5,"cut":false,"hidden":false,"merged":[[1,2,1,4],[1,6,1,8]]}
[]
[null,"学校名：","ABC学校",null,null,"検討日：",{"$f":"Database_All!A5","v":"2023-01-19"}]
[]
[null,"①特別支援教育対象児数",null,null,{"$f":"Database_All!B5","v":10}]
[null,"②行動面の困りを示す児数",null,null,{"$f":"Database_All!C5","v":10}]

{"sheet":"Database_All","index":2,"n_rows":5,"n_cols":53,"rows_kept":5,"cut":false,"hidden":false,"merged":[[1,1,2,2],[2,49,2,50],[2,51,2,52],[1,49,1,52],[2,18,2,21],[2,22,2,25],[1,14,2,17],[1,3,2,13],[2,26,2,29],[2,30,2,33],[1,18,1,33],[1,34,1,48],[2,34,2,48]]}
[1,2,3,4,5,6,7,8,9,10,11,12,13,14,15,16,17,18,19,20,21,22,23,24,25,26,27,28,29,30,31,32,33,34,35,36,37,38,39,40,41,42,43,44,45,46,47,48,49,50,51,52,53]
[null,null,null,"③困った行動の内容",null,null,null,null,null,null,null,null,null,null,"④困った行動が起きる場面",null,null,null,"⑤場面ごとの困った行動の意味",null,null,null,null,null,null,null,null,null,null,null,null,null,null,null,"⑥場面(授業場面）毎の有効な支援",null,null,null,null,null,null,null,null,null,null,null,null,null,null,"⑦支援効果"]
[null,null,null,null,null,null,null,null,null,null,null,null,null,null,null,null,null,null,"休み時間",null,null,null,"授業場面",null,null,null,"かかり活動",null,null,null,"その他",null,null,null,"場面ごとの有効な支援（授業場面）　複数回答",null,null,null,null,null,null,null,null,null,null,null,null,null,null,"望ましい行動が増加した人数",null,"困った行動が減少した人数"]
["日付","①特別支援教育対象児数","②行動面の困りを示す児数",{"$f":"Assessment_DATA!F4","v":"逸脱"},{"$f":"Assessment_DATA!F7","v":"取り組み"},{"$f":"Assessment_DATA!F10","v":"不適切な会話"},{"$f":"Assessment_DATA!F13","v":"かかわり"},{"$f":"Assessment_DATA!F16","v":"情動的反応"},{"$f":"Assessment_DATA!F19","v":"その他"},{"$f":"Assessment_DATA!H4","v":"立ち歩き"},{"$f":"Assessment_DATA!H7","v":"落ち着き"},{"$f":"Assessment_DATA!H10","v":"指示理解"},{"$f":"Assessment_DATA!H13","v":"こだわり"},{"$f":"Assessment_DATA!H16","v":"乱暴"},"授業場面","休み時間","かかり活動","その他","逃避","注目","物活動","感覚刺激","逃避","注目","物活動","感覚刺激","逃避","注目","物活動","感覚刺激","逃避","注目","物活動","感覚刺激","初めてのことをする時に、事前に体験させたり、内容を伝えたりする","嫌な音、刺激、物がある時には、それを取り除いたり、和らげたりする","予定の変更がある時は、事前にその理由や内容を伝え、いつできるか見通しをもたせる","次の活動に移る時は、その内容や場所を伝え、見通しがもてるようにする","疲れたり、調子が悪かったりする時は、活動の量や内容を調整する","わかる、できる課題から始める","指示や説明がわかりやすい席にする","指示や説明を短く、具体的にする","クラス全体への説明に加えて、個別に指示する","めあてと評価表を用いて望ましい行動を促す、その行動をしたら誉める・認める・評価する","嫌（苦手）なことがある時の適切な表現に援助を与える","嫌（苦手）なことを避ける適切な表現を教える　・わかりません　・教えて　・手伝って　・休ませて",null,null,null,"人数","パーセンテージ","人数","パーセンテージ"]
["2023-01-19",10,10,2,3,8,4,2,4,3,1,4,3,1,12,1,4,2,5,0,0,1,8,1,0,2,6,0,3,2,3,0,2,2,5,3,2,2,3,1,4,1,4,2,4,1,0,0,0,3,30,5,50]

{"sheet":"Select_EditSheet","index":3,"n_rows":0,"n_cols":0,"rows_kept":0,"cut":false,"hidden":false,"merged":[]}

{"sheet":"DATA","index":4,"n_rows":17,"n_cols":4,"rows_kept":17,"cut":false,"hidden":false,"merged":[]}
[]
[]
[]
["「逃避機能」への有効な支援","「注目獲得機能」への有効な支援","「物要求機能」への有効な支援","「感覚刺激」への有効な支援"]
["※嫌（苦手）な状況を取り組みやすい状況に変える","※適切な行動で注目を得られるようにする","※適切な行動で要求できるようにする"]
["初めてのことをする時に、事前に体験させたり、内容を伝えたりする","現在している適切な行動をほめる","欲しい物を複数容易しておく","することがない状況で、現在できる適切な活動機会をつくる"]
["嫌な音、刺激、物がある時には、それを取り除いたり、和らげたりする","注目しやすい席にする","したいことを選択させる","困った行動による得られる感覚刺激を代わりに得られる教材等を使用する"]
["予定の変更がある時は、事前にその理由や内容を伝え、いつできるか見通しをもたせる","早い時間に声をかける","いつできるか見通しを与える","同じ感覚刺激を得る適切な表現を教える"]
["次の活動に移る時は、その内容や場所を伝え、見通しがもてるようにする","先生の手伝い等、先生にかかわる役割をつくる","好きな物や活動を用いて課題を促す"]
["疲れたり、調子が悪かったりする時は、活動の量や内容を調整する","皆に認められる役割をつくる","活動をしたら、欲しい物が得られる、したいことができる"]
["わかる、できる課題から始める","参加状況を取り入れる","欲しい物やしたい活動が入手できない時の適切な表現に物や活動を与える"]
["指示や説明がわかりやすい席にする","好きなかかわりを用いて課題を促す","欲しい物やしたい活動を要求する適切な表現を教える　・ちょうだい　・かしてください　していいですか"]
["指示や説明を短く、具体的にする","課題をしたら、かかわる"]
["クラス全体への説明に加えて、個別に指示する","困った行動にはかかわらない"]
["嫌（苦手）なことがある時の適切な表現に援助を与える","注目して欲しい時の適切な表現にかかわる　　"]
["嫌（苦手）なことを避ける適切な表現を教える　・わかりません　・教えて　・手伝って　・休ませて","注目を得る適切な表現を教える　・みてみて　・できました　　・きてください　・一緒にして"]
[null,"適切な表現にかかわる"]

{"sheet":"Info_a","index":5,"n_rows":23,"n_cols":9,"rows_kept":23,"cut":false,"hidden":false,"merged":[[0,0,0,1],[17,1,20,11],[16,1,16,5],[23,1,25,10],[2,8,2,9],[4,1,4,7],[5,1,8,11],[10,1,10,3],[11,1,14,11]]}
["2.情報"]
[null,"<就学前>"]
[null,"対象児番号",null,null,"教室担当者",null,null,"入力年月日","2020-08-22"]
[]
[null,"成長していること・得意なこと・好きなこと（自由記述）"]
[]
[]
[]
[]
[]
[null,"行動の特徴（自由記述）"]
[]
[]
[]
[]
[]
[null,"身体面での配慮事項（特病、服薬など：自由記述）"]
[]
[]
[]
[]
[]
[null,"困った行動"]

{"sheet":"Info_b","index":6,"n_rows":23,"n_cols":8,"rows_kept":23,"cut":false,"hidden":false,"merged":[[0,0,0,1],[17,1,20,11],[2,8,2,9],[4,1,4,7],[5,1,8,11],[10,1,10,3],[11,1,14,11],[16,1,16,5]]}
["2.情報"]
[null,"<小学校>"]
[null,"対象児番号",null,null,"学校名",1,null,"入力年月日"]
[]
[null,"成長していること・得意なこと・好きなこと（自由記述）"]
[]
[]
[]
[]
[]
[null,"行動の特徴（自由記述）"]
[]
[]
[]
[]
[]
[null,"身体面での配慮事項（特病、服薬など：自由記述）"]
[]
[]
[]
[]
[]
[null,"困った行動"]

{"sheet":"Assessment_PreSchool_DATA","index":7,"n_rows":26,"n_cols":11,"rows_kept":26,"cut":false,"hidden":false,"merged":[[2,1,2,3],[2,5,2,8],[0,0,0,3]]}
["就学前の児童アセスメント文章設定"]
[]
[null,"A困った行動が見られる場面・状況",null,null,null,"Bどんな行動がみられるか",null,null,null,null,"Cその行動をしたら生じる結果"]
[null,"登下校場面",null,"初めてのことをする時",null,"逸脱","　すべきことをしない","立ち歩き","　その場を離れる",null,"  逃避・回避：課題や活動が中断する、しなくて済む、先生や友達が手助けする、嫌な注目やかかわり、刺激を避けられる"]
[null,"着替え場面",null,"予定が変更される時",null,null,"　指示されたことではない他のことをする",null,"　教室を飛び出す",null,"　注目：先生や友達が注目する、かかわる （注意も含む）"]
[null,"食事場面",null,"指示や説明を聞く時",null,null,"　いや、したくないと反抗する",null,null,null,"　物活動：欲しい物が得られる、したい活動ができる"]
[null,"トイレ場面",null,"次の活動に移る時",null,"取り組み","　取り組むが、偏りがある","落ち着き","　じっとしていない",null,"　感覚刺激：感覚刺激が得られる"]
[null,"行事場面（入学式、運動会）",null,"課題が促される時",null,null,"　取り組むが、最後までしない",null,"　刺激に反応する"]
[null,"課題場面　（文字を読むとき、　文字を書くとき、　話すとき、　授業中、　家庭で宿題）",null,"集団の活動に参加する時",null,null,"　取りかかりに時間がかかる"]
[null,"遊び場面",null,"刺激となる音や物がある時",null,"不適切な会話","　周囲の状況に関係なく話す","指示理解","　個別に言わないと集団指示では動けない"]
[null,"自由時間",null,"失敗したとき",null,null,"　不適切な言葉をいう",null,"　指示や説明の内容を取り違える"]
[null,null,null,"注意されたり、叱られた時"]
[null,null,null,"考える課題の時",null,"かかわり","　相手に関係なく一方的にかかわる","こだわり","　次の活動に切り替えられない"]
[null,null,null,"発表する時",null,null,"　友達が嫌がることをする",null,"　特定のものや人へのこだわり"]
[null,null,null,"友達と話し合う時",null,null,"　かかわりを嫌がる"]
[null,null,null,"友達の発表を聞くとき",null,"情動的反応","　大声でわめく","乱暴","　友達を叩く、押す、ける"]
[null,null,null,"書くとき",null,null,"　かんしゃくを起こす",null,"　壁をける、物を投げる、こわす"]
[null,null,null,"読むとき",null,null,"　泣く"]
[null,null,null,"友達とかかわる時",null,"その他"]
[null,"最も育てたい望ましい行動",null,"嫌（苦手）なことを促される時"]
[null,"課題の取り組み",null,"不安や困ったことがある時"]
[null,"本人の意思表示",null,"人にかかわってほしくない時"]
[null,"友達との関わり",null,"注目されない時"]
[null,null,null,"欲しい物がある時"]
[null,null,null,"したい活動ができない時"]
[null,null,null,"することがない時"]

{"sheet":"Assessment_DATA","index":8,"n_rows":51,"n_cols":11,"rows_kept":51,"cut":false,"hidden":false,"merged":[[0,0,0,3],[2,1,2,3],[2,5,2,8]]}
["小学校の児童アセスメント文章設定"]
[]
[null,"A困った行動が見られる場面・状況",null,null,null,"Bどんな行動がみられるか",null,null,null,null,"Cその行動をしたら生じる結果"]
[null,"授業場面",null,"初めてのことをする時",null,"逸脱","　すべきことをしない","立ち歩き","　その場を離れる",null,"  逃避・回避：課題や活動が中断する、しなくて済む、先生や友達が手助けする、嫌な注目やかかわり、刺激を避けられる"]
[null,"休み時間",null,"予定が変更される時",null,null,"　指示されたことではない他のことをする",null,"　教室を飛び出す",null,"　注目：先生や友達が注目する、かかわる （注意も含む）"]
[null,"かかり活動",null,"指示や説明を聞く時",null,null,"　いや、したくないと反抗する",null,null,null,"　物活動：欲しい物が得られる、したい活動ができる"]
[null,null,null,"次の活動に移る時",null,"取り組み","　取り組むが、偏りがある","落ち着き","　じっとしていない",null,"　感覚刺激：感覚刺激が得られる"]
[null,null,null,"課題が促される時",null,null,"　取り組むが、最後までしない",null,"　刺激に反応する"]
[null,null,null,"集団の活動に参加する時",null,null,"　取りかかりに時間がかかる"]
[null,null,null,"刺激となる音や物がある時",null,"不適切な会話","　周囲の状況に関係なく話す","指示理解","　個別に言わないと集団指示では動けない"]
[null,null,null,"失敗したとき",null,null,"　不適切な言葉をいう",null,"　指示や説明の内容を取り違える"]
[null,null,null,"注意されたり、叱られた時"]
[null,null,null,"考える課題の時",null,"かかわり","　相手に関係なく一方的にかかわる","こだわり","　次の活動に切り替えられない"]
[null,null,null,"発表する時",null,null,"　友達が嫌がることをする",null,"　特定のものや人へのこだわり"]
[null,null,null,"友達と話し合う時",null,null,"　かかわりを嫌がる"]
[null,null,null,"友達の発表を聞くとき",null,"情動的反応","　大声でわめく","乱暴","　友達を叩く、押す、ける"]
[null,null,null,"書くとき",null,null,"　かんしゃくを起こす",null,"　壁をける、物を投げる、こわす"]
[null,null,null,"読むとき",null,null,"　泣く"]
[null,null,null,"友達とかかわる時",null,"その他"]
[null,"最も育てたい望ましい行動",null,"嫌（苦手）なことを促される時"]
[null,"課題の取り組み",null,"不安や困ったことがある時"]
[null,"本人の意思表示",null,"人にかかわってほしくない時"]
[null,"友達との関わり",null,"注目されない時"]
[null,null,null,"欲しい物がある時"]
[null,null,null,"したい活動ができない時"]
[null,null,null,"することがない時"]
[]
[]
[]
[]
[]
[null,"Scene_Radio1",null,"Situation_Check1",null,"Behavior_Check1","Behavior_Check1_Detail1","Behavior_Check7","Behavior_Check7_Detail1",null,"Result_Check1"]
[null,"Scene_Radio2",null,"Situation_Check2",null,null,"Behavior_Check1_Detail2",null,"Behavior_Check7_Detail2",null,"Result_Check2"]
[null,"Scene_Radio3",null,"Situation_Check3",null,null,"Behavior_Check1_Detail3",null,"Behavior_Check7_Detail3",null,"Result_Check3"]
[null,null,null,"Situation_Check4",null,"Behavior_Check2","Behavior_Check2_Detail1","Behavior_Check8","Behavior_Check8_Detail1",null,"Result_Check4"]
[null,null,null,"Situation_Check5",null,null,"Behavior_Check2_Detail2",null,"Behavior_Check8_Detail2"]
[null,null,null,"Situation_Check6",null,null,"Behavior_Check2_Detail3",null,"Behavior_Check8_Detail3"]
[null,null,null,"Situation_Check7",null,"Behavior_Check3","Behavior_Check3_Detail1","Behavior_Check9","Behavior_Check9_Detail1"]
[null,null,null,"Situation_Check8",null,null,"Behavior_Check3_Detail2",null,"Behavior_Check9_Detail2"]
[null,null,null,"Situation_Check9",null,null,"Behavior_Check3_Detail3",null,"Behavior_Check9_Detail3"]
[null,null,null,"Situation_Check10",null,"Behavior_Check4","Behavior_Check4_Detail1","Behavior_Check10","Behavior_Check10_Detail1"]
[null,null,null,"Situation_Check11",null,null,"Behavior_Check4_Detail2",null,"Behavior_Check10_Detail2"]
[null,null,null,"Situation_Check12",null,null,"Behavior_Check4_Detail3",null,"Behavior_Check10_Detail3"]
[null,null,null,"Situation_Check13",null,"Behavior_Check5","Behavior_Check5_Detail1","Behavior_Check11","Behavior_Check11_Detail1"]
[null,null,null,"Situation_Check14",null,null,"Behavior_Check5_Detail2",null,"Behavior_Check11_Detail2"]
[null,null,null,"Situation_Check15",null,null,"Behavior_Check5_Detail3",null,"Behavior_Check11_Detail3"]
[null,null,null,"Situation_Check16",null,"Behavior_Check6","Behavior_Check6_Detail1"]
[null,null,null,"Situation_Check17",null,null,"Behavior_Check6_Detail2"]
[null,"Good_Behavior1",null,"Situation_Check18",null,null,"Behavior_Check6_Detail3"]
[null,"Good_Behavior2",null,"Situation_Check19"]
[null,"Good_Behavior3",null,"Situation_Check20"]

{"sheet":"ABC_Preschool1","index":9,"n_rows":19,"n_cols":11,"rows_kept":19,"cut":false,"hidden":false,"merged":[[3,1,3,3],[3,5,3,8],[0,0,0,1]]}
["3.アセスメント①"]
[null,"対象児番号：",null,null,null,"担当/学校：",null,"入力年月日："]
[]
[null,"A　困った行動がみられる場面・状況",null,null,null,"B　どんな行動がみられるか",null,null,null,null,"C　その行動をしたら生じる結果"]
[]
[]
[]
[]
[]
[]
[]
[]
[]
[]
[]
[]
[]
[]
[null,"最も育てたい望ましい行動"]

{"sheet":"ABC_Preschool2","index":10,"n_rows":19,"n_cols":11,"rows_kept":19,"cut":false,"hidden":false,"merged":[[0,0,0,1],[3,1,3,3],[3,5,3,8]]}
["3.アセスメント②"]
[null,"対象児番号：",null,null,null,"担当/学校：",null,"入力年月日："]
[]
[null,"A　困った行動がみられる場面・状況",null,null,null,"B　どんな行動がみられるか",null,null,null,null,"C　その行動をしたら生じる結果"]
[]
[]
[]
[]
[]
[]
[]
[]
[]
[]
[]
[]
[]
[]
[null,"最も育てたい望ましい行動"]

{"sheet":"ABC_Preschool3","index":11,"n_rows":19,"n_cols":11,"rows_kept":19,"cut":false,"hidden":false,"merged":[[0,0,0,1],[3,1,3,3],[3,5,3,8]]}
["3.アセスメント③"]
[null,"対象児番号：",null,null,null,"担当/学校：",null,"入力年月日："]
[]
[null,"A　困った行動がみられる場面・状況",null,null,null,"B　どんな行動がみられるか",null,null,null,null,"C　その行動をしたら生じる結果"]
[]
[]
[]
[]
[]
[]
[]
[]
[]
[]
[]
[]
[]
[]
[null,"最も育てたい望ましい行動"]

{"sheet":"ABC_Preschool4","index":12,"n_rows":19,"n_cols":11,"rows_kept":19,"cut":false,"hidden":false,"merged":[[0,0,0,1],[3,1,3,3],[3,5,3,8]]}
["3.アセスメント④"]
[null,"対象児番号：",null,null,null,"担当/学校：",null,"入力年月日："]
[]
[null,"A　困った行動がみられる場面・状況",null,null,null,"B　どんな行動がみられるか",null,null,null,null,"C　その行動をしたら生じる結果"]
[]
[]
[]
[]
[]
[]
[]
[]
[]
[]
[]
[]
[]
[]
[null,"最も育てたい望ましい行動"]

{"sheet":"ABC1","index":13,"n_rows":13,"n_cols":11,"rows_kept":13,"cut":false,"hidden":false,"merged":[[3,5,3,8],[3,1,3,3],[0,0,0,2]]}
["3.アセスメント"]
[null,"対象児番号：",null,null,null,"担当/学校：",null,"入力年月日："]
[]
[null,"A　困った行動がみられる場面・状況",null,null,null,"B　どんな行動がみられるか",null,null,null,null,"C　その行動をしたら生じる結果"]
[]
[]
[]
[]
[]
[]
[]
[]
[null,"最も育てたい望ましい行動"]

{"sheet":"ABC2","index":14,"n_rows":13,"n_cols":11,"rows_kept":13,"cut":false,"hidden":false,"merged":[[0,0,0,2],[3,1,3,3],[3,5,3,8]]}
["3.アセスメント②"]
[null,"対象児番号：",null,null,null,"担当/学校：",null,"入力年月日："]
[]
[null,"A　困った行動がみられる場面・状況",null,null,null,"B　どんな行動がみられるか",null,null,null,null,"C　その行動をしたら生じる結果"]
[]
[]
[]
[]
[]
[]
[]
[]
[null,"最も育てたい望ましい行動"]

{"sheet":"ABC3","index":15,"n_rows":13,"n_cols":11,"rows_kept":13,"cut":false,"hidden":false,"merged":[[0,0,0,2],[3,1,3,3],[3,5,3,8]]}
["3.アセスメント③"]
[null,"対象児番号：",null,null,null,"担当/学校：",null,"入力年月日："]
[]
[null,"A　困った行動がみられる場面・状況",null,null,null,"B　どんな行動がみられるか",null,null,null,null,"C　その行動をしたら生じる結果"]
[]
[]
[]
[]
[]
[]
[]
[]
[null,"最も育てたい望ましい行動"]

{"sheet":"ABC4","index":16,"n_rows":13,"n_cols":11,"rows_kept":13,"cut":false,"hidden":false,"merged":[[0,0,0,2],[3,1,3,3],[3,5,3,8]]}
["3.アセスメント④"]
[null,"対象児番号：",null,null,null,"担当/学校：",null,"入力年月日："]
[]
[null,"A　困った行動がみられる場面・状況",null,null,null,"B　どんな行動がみられるか",null,null,null,null,"C　その行動をしたら生じる結果"]
[]
[]
[]
[]
[]
[]
[]
[]
[null,"最も育てたい望ましい行動"]

{"sheet":"KINOU_Data","index":17,"n_rows":29,"n_cols":8,"rows_kept":29,"cut":false,"hidden":false,"merged":[]}
[1,null,null,null,null,null,null,"今の入力回数"]
[null,null,null,null,null,null,"課題の取り組み",1]
[]
[]
[]
[]
[]
[]
[]
[2]
[null,null,null,null,null,null,"友達との関わり"]
[]
[]
[]
[]
[]
[]
[]
[3]
[null,null,null,null,null,null,"友達との関わり"]
[]
[]
[]
[]
[]
[]
[]
[4]
[null,null,null,null,null,null,"課題の取り組み"]

{"sheet":"HENKA","index":18,"n_rows":27,"n_cols":5,"rows_kept":27,"cut":false,"hidden":true,"merged":[[6,2,6,4],[4,2,4,6]]}
[]
[]
[]
[null,null,"対象児の困った行動の変化：下記の困った行動の回数と程度を入力してください。"]
[null,null,{"$f":"\"困った行動　：　\"&IF('ABC1'!#REF!=\"\",\"\",'ABC1'!#REF!)&IF('ABC1'!#REF!=\"\",\"\",\",\"&'ABC1'!#REF!)&IF('ABC1'!#REF!=\"\",\"\",\",\"&'ABC1'!#REF!)&IF('ABC1'!#REF!=\"\",\"\",\",\"&'ABC1'!#REF!)&IF('ABC1'!#REF!=\"\",\"\",\",\"&'ABC1'!#REF!)&IF('ABC1'!#REF!=\"\",\"\",\",\"&'ABC1'!#REF!)&IF('ABC1'!#REF!=\"\",\"\",\",\"&'ABC1'!#REF!)&IF('ABC1'!#REF!=\"\",\"\",\",\"&'ABC1'!#REF!)&IF('ABC1'!#REF!=\"\",\"\",\",\"&'ABC1'!#REF!)&IF('ABC1'!#REF!=\"\",\"\",\",\"&'ABC1'!#REF!)&IF('ABC1'!#REF!=\"\",\"\",\",\"&'ABC1'!#REF!)","v":{"$error":"#REF!"}}]
[]
[null,null,"期間の表示"]
[null,null,1,"始めの月",4]
[null,null,null,"始めの日","2020-02-03"]
[]
[null,null,"期間","回数","程度"]
[null,null,{"$f":"IF($C$8=1,$E$8&\"月\",TEXT($E$9,\"m/d\")&\"～\")","v":"4月"},7,1]
[null,null,{"$f":"IF($C$8=1,IF($E$8+1>12,$E$8-11,$E$8+1)&\"月\",TEXT($E$9+7,\"m/d\")&\"～\")","v":"5月"},8,1]
[null,null,{"$f":"IF($C$8=1,IF($E$8+2>12,$E$8-10,$E$8+2)&\"月\",TEXT($E$9+14,\"m/d\")&\"～\")","v":"6月"},9,3]
[null,null,{"$f":"IF($C$8=1,IF($E$8+3>12,$E$8-9,$E$8+3)&\"月\",TEXT($E$9+21,\"m/d\")&\"～\")","v":"7月"},5,2]
[null,null,{"$f":"IF($C$8=1,IF($E$8+4>12,$E$8-8,$E$8+4)&\"月\",TEXT($E$9+28,\"m/d\")&\"～\")","v":"8月"},5,2]
[null,null,{"$f":"IF($C$8=1,IF($E$8+5>12,$E$8-7,$E$8+5)&\"月\",TEXT($E$9+35,\"m/d\")&\"～\")","v":"9月"},4,3]
[null,null,{"$f":"IF($C$8=1,IF($E$8+6>12,$E$8-6,$E$8+6)&\"月\",TEXT($E$9+42,\"m/d\")&\"～\")","v":"10月"},5]
[null,null,{"$f":"IF($C$8=1,IF($E$8+7>12,$E$8-5,$E$8+7)&\"月\",TEXT($E$9+49,\"m/d\")&\"～\")","v":"11月"},6]
[null,null,{"$f":"IF($C$8=1,IF($E$8+8>12,$E$8-4,$E$8+8)&\"月\",TEXT($E$9+56,\"m/d\")&\"～\")","v":"12月"},7]
[null,null,{"$f":"IF($C$8=1,IF($E$8+9>12,$E$8-3,$E$8+9)&\"月\",TEXT($E$9+63,\"m/d\")&\"～\")","v":"1月"},8]
[null,null,{"$f":"IF($C$8=1,IF($E$8+10>12,$E$8-2,$E$8+10)&\"月\",TEXT($E$9+70,\"m/d\")&\"～\")","v":"2月"},7]
[null,null,{"$f":"IF($C$8=1,IF($E$8+11>12,$E$8-1,$E$8+11)&\"月\",TEXT($E$9+77,\"m/d\")&\"～\")","v":"3月"},6]
[null,null,null,null,"0 なし"]
[null,null,null,null,"1 軽微"]
[null,null,null,null,"2 中程度"]
[null,null,null,null,"3 激しい"]

{"sheet":"HENKAPOS","index":19,"n_rows":27,"n_cols":5,"rows_kept":27,"cut":false,"hidden":true,"merged":[[4,2,4,6],[6,2,6,4]]}
[]
[]
[]
[null,null,"対象児のもっとも育てたい望ましい行動の変化：望ましい行動の程度を入力してください。"]
[null,null,{"$f":"\"最も育てたい望ましい行動　：　\"&IF(_xlfn.IFNA('ABC1'!#REF!,99)=99,\"入力なし\",'ABC1'!#REF!)","v":{"$error":"#REF!"}}]
[]
[null,null,"期間の表示"]
[null,null,2]
[]
[]
[null,null,"期間","回数","程度"]
[null,null,{"$f":"HENKA!C12","v":"4月"},null,2]
[null,null,{"$f":"HENKA!C13","v":"5月"},null,3]
[null,null,{"$f":"HENKA!C14","v":"6月"}]
[null,null,{"$f":"HENKA!C15","v":"7月"}]
[null,null,{"$f":"HENKA!C16","v":"8月"}]
[null,null,{"$f":"HENKA!C17","v":"9月"}]
[null,null,{"$f":"HENKA!C18","v":"10月"}]
[null,null,{"$f":"HENKA!C19","v":"11月"}]
[null,null,{"$f":"HENKA!C20","v":"12月"}]
[null,null,{"$f":"HENKA!C21","v":"1月"}]
[null,null,{"$f":"HENKA!C22","v":"2月"}]
[null,null,{"$f":"HENKA!C23","v":"3月"}]
[null,null,null,null,"4：できる"]
[null,null,null,null,"3：できることもある"]
[null,null,null,null,"2：支援があればできる"]
[null,null,null,null,"1：できない"]

{"sheet":"DataBase","index":20,"n_rows":2,"n_cols":159,"rows_kept":2,"cut":false,"hidden":false,"merged":[]}
[null,null,null,4,5,6,7,8,9,null,11,12,13,14,15,16,17,18,19,20,21,22,23,24,25,26,27,28,29,30,31,32,33,34,35,36,37,38,39,40,41,42,43,44,45,46,47,48,49,50,51,52,53,54,55,56,57,58,59,60,61,62,63,64,65,66,67,68,69,70,71,72,73,74,75,76,77,78,79,80,81,82,83,84,85,86,87,88,89,90,91,92,93,94,95,96,97,98,99,100,101,102,103,104,105,106,107,108,109,110,111,112,113,114,115,116,117,118,119,120,121,122,123,124,125,126,127,128,129,130,131,132,133,134,135,136,137,138,139,140,141,142,143,144,145,146,147,148,149,150,151,152,153,154,155,156,157,158,159]
["就学前","対象児番号","教室担当者/学校名","入力年月日","成長していること・得意なこと・好きなこと（自由記述）","行動の特徴（自由記述）","身体面での配慮事項（徳病、服薬など：自由記述）","困った行動","最も困っている行動の番号",null,"期間の表示","初めの月/日","グラフの回数1","グラフの回数2","グラフの回数3","グラフの回数4","グラフの回数5","グラフの回数6","グラフの回数7","グラフの回数8","グラフの回数9","グラフの回数10","グラフの回数11","グラフの回数12","グラフの程度1","グラフの程度2","グラフの程度3","グラフの程度4","グラフの程度5","グラフの程度6","グラフの程度7","グラフの程度8","グラフの程度9","グラフの程度10","グラフの程度11","グラフの程度12","望ましい行動グラフ1","望ましい行動グラフ2","望ましい行動グラフ3","望ましい行動グラフ4","望ましい行動グラフ5","望ましい行動グラフ6","望ましい行動グラフ7","望ましい行動グラフ8","望ましい行動グラフ9","望ましい行動グラフ10","望ましい行動グラフ11","望ましい行動グラフ12","支援の方法1","支援の方法2","支援の方法3","支援の方法4","支援の方法5","支援の方法6","支援の方法7","支援の方法8","支援の方法9","支援の方法10","支援の方法11","支援の方法12","支援の方法13","支援の方法14","支援の方法15","①困った行動がみられる場面","①困った行動がみられる状況.1","①困った行動がみられる状況.2","①困った行動がみられる状況.3","①困った行動がみられる状況.4","①困った行動がみられる状況.5","①どんな行動がみられるか","①その行動をしたら生じる結果.1","①その行動をしたら生じる結果.2","①その行動をしたら生じる結果.3","①その行動をしたら生じる結果.4","②困った行動がみられる場面","②困った行動がみられる状況.1","②困った行動がみられる状況.2","②困った行動がみられる状況.3","②困った行動がみられる状況.4","②困った行動がみられる状況.5","②どんな行動がみられるか","②その行動をしたら生じる結果.1","②その行動をしたら生じる結果.2","②その行動をしたら生じる結果.3","②その行動をしたら生じる結果.4","③困った行動がみられる場面","③困った行動がみられる状況.1","③困った行動がみられる状況.2","③困った行動がみられる状況.3","③困った行動がみられる状況.4","③困った行動がみられる状況.5","③どんな行動がみられるか","③その行動をしたら生じる結果.1","③その行動をしたら生じる結果.2","③その行動をしたら生じる結果.3","③その行動をしたら生じる結果.4","④困った行動がみられる場面","④困った行動がみられる状況.1","④困った行動がみられる状況.2","④困った行動がみられる状況.3","④困った行動がみられる状況.4","④困った行動がみられる状況.5","④どんな行動がみられるか","④その行動をしたら生じる結果.1","④その行動をしたら生じる結果.2","④その行動をしたら生じる結果.3","Number_Of_Kinou","【逃避】選択した最も困った行動の機能1","【注目】選択した最も困った行動の機能2","【物欲求】選択した最も困った行動の機能3","【感覚刺激】選択した最も困った行動の機能4","支援の方法16","支援の方法17","支援の方法18","支援の方法19","支援の方法20","支援の方法21","支援の方法22","支援の方法23","支援の方法24","支援の方法25","支援の方法26","支援の方法27","支援の方法28","支援の方法29","支援の方法30","支援の方法31","支援の方法32","支援の方法33","支援の方法34","支援の方法35","支援の方法36","支援の方法37","支援の方法38","支援の方法39","支援の方法40","支援の方法41","支援の方法42","支援の方法43","支援の方法44","支援の方法45","支援の方法46","支援の方法47","支援の方法48","支援の方法49","支援の方法50","支援の方法51","支援の方法52","支援の方法53","支援の方法54","支援の方法55","支援の方法56","支援の方法57","支援の方法58","支援の方法59","支援の方法60","支援の効果（困った行動）","支援の効果（望ましい行動）","支援の自由記述ラン"]

{"sheet":"KINOU1","index":21,"n_rows":12,"n_cols":10,"rows_kept":12,"cut":false,"hidden":false,"merged":[[0,0,0,2],[5,3,11,4],[3,8,3,9],[8,1,11,1],[11,9,12,9],[9,9,10,9],[7,9,8,9],[5,9,6,9],[4,8,4,9],[4,3,4,4]]}
["４．　分析"]
[null,null,"対象児番号：",null,"担当/学校：","入力年月日："]
[]
[null,null,null,null,null,null,null,null,"左から最も困っている場面の枠を選ぶ"]
[null,1,"A　どんな場面","B　どんな行動",null,"C　どんな結果",null,null,"困った行動の機能"]
[null,null,{"$f":"IF(KINOU_Data!C2=\"\", \"\", KINOU_Data!C2)","v":""},{"$f":"IF(KINOU_Data!D2=\"\",\"\",KINOU_Data!D2)","v":""},null,{"$f":"IF(KINOU_Data!F2=\"\",\"\",KINOU_Data!F2)","v":""},null,null,null,"課題がうながされる場面や状況で、その行動をすると、課題をしなく済む"]
[null,null,"A　どんな状況",null,null,{"$f":"IF(KINOU_Data!F3=\"\",\"\",KINOU_Data!F3)","v":""}]
[null,null,{"$f":"IF(KINOU_Data!C4=\"\",\"\",KINOU_Data!C4)","v":""},null,null,{"$f":"IF(KINOU_Data!F4=\"\",\"\",KINOU_Data!F4)","v":""},null,null,null,"注目されていない場面や状況で、その行動をすると、注目やかかわりが得られる"]
[null,"選択する",{"$f":"IF(KINOU_Data!C5=\"\",\"\",KINOU_Data!C5)","v":""},null,null,{"$f":"IF(KINOU_Data!F5=\"\",\"\",KINOU_Data!F5)","v":""}]
[null,null,{"$f":"IF(KINOU_Data!C6=\"\",\"\",KINOU_Data!C6)","v":""},null,null,null,null,null,null,"欲しい物やしたい活動ができない場面や状況で、その行動をすると、それらが得られる"]
[null,null,{"$f":"IF(KINOU_Data!C7=\"\",\"\",KINOU_Data!C7)","v":""}]
[null,null,null,null,null,null,null,null,null,"することがない場面や状況で、その行動をすると、感覚刺激が得られる"]

{"sheet":"KINOU2","index":22,"n_rows":20,"n_cols":10,"rows_kept":20,"cut":false,"hidden":false,"merged":[[0,0,0,2],[17,1,20,1],[18,8,19,10],[3,8,3,9],[4,3,4,4],[4,8,4,9],[5,9,6,9],[7,9,8,9],[8,1,11,1],[9,9,10,9],[11,9,12,9],[5,3,11,4],[14,3,20,4],[13,3,13,4],[14,8,15,10],[16,8,17,10]]}
["４．　分析"]
[null,null,"対象児番号：",null,"担当/学校：","入力年月日："]
[]
[null,null,null,null,null,null,null,null,"左から最も困っている場面の枠を選ぶ"]
[null,1,"A　どんな場面","B　どんな行動",null,"C　どんな結果",null,null,"困った行動の機能"]
[null,null,{"$f":"IF(KINOU_Data!C2=\"\", \"\", KINOU_Data!C2)","v":""},{"$f":"IF(KINOU_Data!D2=\"\",\"\",KINOU_Data!D2)","v":""},null,{"$f":"IF(KINOU_Data!F2=\"\",\"\",KINOU_Data!F2)","v":""},null,null,null,"課題がうながされる場面や状況で、その行動をすると、課題をしなく済む"]
[null,null,"A　どんな状況",null,null,{"$f":"IF(KINOU_Data!F3=\"\",\"\",KINOU_Data!F3)","v":""}]
[null,null,{"$f":"IF(KINOU_Data!C4=\"\",\"\",KINOU_Data!C4)","v":""},null,null,{"$f":"IF(KINOU_Data!F4=\"\",\"\",KINOU_Data!F4)","v":""},null,null,null,"注目されていない場面や状況で、その行動をすると、注目やかかわりが得られる"]
[null,"選択する",{"$f":"IF(KINOU_Data!C5=\"\",\"\",KINOU_Data!C5)","v":""},null,null,{"$f":"IF(KINOU_Data!F5=\"\",\"\",KINOU_Data!F5)","v":""}]
[null,null,{"$f":"IF(KINOU_Data!C6=\"\",\"\",KINOU_Data!C6)","v":""},null,null,null,null,null,null,"欲しい物やしたい活動ができない場面や状況で、その行動をすると、それらが得られる"]
[null,null,{"$f":"IF(KINOU_Data!C7=\"\",\"\",KINOU_Data!C7)","v":""}]
[null,null,null,null,null,null,null,null,null,"することがない場面や状況で、その行動をすると、感覚刺激が得られる"]
[]
[null,2,"A　どんな場面","B　どんな行動",null,"C　どんな結果"]
[null,null,{"$f":"IF(KINOU_Data!C11=\"\", \"\", KINOU_Data!C11)","v":""},{"$f":"IF(KINOU_Data!D11=\"\",\"\",KINOU_Data!D11)","v":""},null,{"$f":"IF(KINOU_Data!F11=\"\",\"\",KINOU_Data!F11)","v":""},null,null,"f"]
[null,null,"A　どんな状況",null,null,{"$f":"IF(KINOU_Data!F12=\"\",\"\",KINOU_Data!F12)","v":""}]
[null,null,{"$f":"IF(KINOU_Data!C13=\"\",\"\",KINOU_Data!C13)","v":""},null,null,{"$f":"IF(KINOU_Data!F13=\"\",\"\",KINOU_Data!F13)","v":""}]
[null,"選択する",{"$f":"IF(KINOU_Data!C14=\"\",\"\",KINOU_Data!C14)","v":""},null,null,{"$f":"IF(KINOU_Data!F14=\"\",\"\",KINOU_Data!F14)","v":""}]
[null,null,{"$f":"IF(KINOU_Data!C15=\"\",\"\",KINOU_Data!C15)","v":""}]
[null,null,{"$f":"IF(KINOU_Data!C16=\"\",\"\",KINOU_Data!C16)","v":""}]

{"sheet":"KINOU3","index":23,"n_rows":29,"n_cols":10,"rows_kept":29,"cut":false,"hidden":false,"merged":[[26,1,29,1],[27,8,28,10],[13,3,13,4],[14,8,15,10],[16,8,17,10],[17,1,20,1],[18,8,19,10],[22,3,22,4],[22,8,22,10],[14,3,20,4],[23,3,29,4],[23,8,24,10],[25,8,26,10],[0,0,0,2],[8,1,11,1],[9,9,10,9],[11,9,12,9],[3,8,3,9],[4,3,4,4],[4,8,4,9],[5,9,6,9],[7,9,8,9],[5,3,11,4]]}
["４．　分析"]
[null,null,"対象児番号：",null,"担当/学校：","入力年月日："]
[]
[null,null,null,null,null,null,null,null,"左から最も困っている場面の枠を選ぶ"]
[null,1,"A　どんな場面","B　どんな行動",null,"C　どんな結果",null,null,"困った行動の機能"]
[null,null,{"$f":"IF(KINOU_Data!C2=\"\", \"\", KINOU_Data!C2)","v":""},{"$f":"IF(KINOU_Data!D2=\"\",\"\",KINOU_Data!D2)","v":""},null,{"$f":"IF(KINOU_Data!F2=\"\",\"\",KINOU_Data!F2)","v":""},null,null,null,"課題がうながされる場面や状況で、その行動をすると、課題をしなく済む"]
[null,null,"A　どんな状況",null,null,{"$f":"IF(KINOU_Data!F3=\"\",\"\",KINOU_Data!F3)","v":""}]
[null,null,{"$f":"IF(KINOU_Data!C4=\"\",\"\",KINOU_Data!C4)","v":""},null,null,{"$f":"IF(KINOU_Data!F4=\"\",\"\",KINOU_Data!F4)","v":""},null,null,null,"注目されていない場面や状況で、その行動をすると、注目やかかわりが得られる"]
[null,"選択する",{"$f":"IF(KINOU_Data!C5=\"\",\"\",KINOU_Data!C5)","v":""},null,null,{"$f":"IF(KINOU_Data!F5=\"\",\"\",KINOU_Data!F5)","v":""}]
[null,null,{"$f":"IF(KINOU_Data!C6=\"\",\"\",KINOU_Data!C6)","v":""},null,null,null,null,null,null,"欲しい物やしたい活動ができない場面や状況で、その行動をすると、それらが得られる"]
[null,null,{"$f":"IF(KINOU_Data!C7=\"\",\"\",KINOU_Data!C7)","v":""}]
[null,null,null,null,null,null,null,null,null,"することがない場面や状況で、その行動をすると、感覚刺激が得られる"]
[]
[null,2,"A　どんな場面","B　どんな行動",null,"C　どんな結果"]
[null,null,{"$f":"IF(KINOU_Data!C11=\"\", \"\", KINOU_Data!C11)","v":""},{"$f":"IF(KINOU_Data!D11=\"\",\"\",KINOU_Data!D11)","v":""},null,{"$f":"IF(KINOU_Data!F11=\"\",\"\",KINOU_Data!F11)","v":""},null,null,"f"]
[null,null,"A　どんな状況",null,null,{"$f":"IF(KINOU_Data!F12=\"\",\"\",KINOU_Data!F12)","v":""}]
[null,null,{"$f":"IF(KINOU_Data!C13=\"\",\"\",KINOU_Data!C13)","v":""},null,null,{"$f":"IF(KINOU_Data!F13=\"\",\"\",KINOU_Data!F13)","v":""}]
[null,"選択する",{"$f":"IF(KINOU_Data!C14=\"\",\"\",KINOU_Data!C14)","v":""},null,null,{"$f":"IF(KINOU_Data!F14=\"\",\"\",KINOU_Data!F14)","v":""}]
[null,null,{"$f":"IF(KINOU_Data!C15=\"\",\"\",KINOU_Data!C15)","v":""}]
[null,null,{"$f":"IF(KINOU_Data!C16=\"\",\"\",KINOU_Data!C16)","v":""}]
[]
[]
[null,3,"A　どんな場面","B　どんな行動",null,"C　どんな結果"]
[null,null,{"$f":"IF(KINOU_Data!C20=\"\", \"\", KINOU_Data!C20)","v":""},{"$f":"IF(KINOU_Data!D20=\"\",\"\",KINOU_Data!D20)","v":""},null,{"$f":"IF(KINOU_Data!F20=\"\",\"\",KINOU_Data!F20)","v":""}]
[null,null,"A　どんな状況",null,null,{"$f":"IF(KINOU_Data!F21=\"\",\"\",KINOU_Data!F21)","v":""}]
[null,null,{"$f":"IF(KINOU_Data!C22=\"\",\"\",KINOU_Data!C22)","v":""},null,null,{"$f":"IF(KINOU_Data!F22=\"\",\"\",KINOU_Data!F22)","v":""}]
[null,"選択する",{"$f":"IF(KINOU_Data!C23=\"\",\"\",KINOU_Data!C23)","v":""},null,null,{"$f":"IF(KINOU_Data!F23=\"\",\"\",KINOU_Data!F23)","v":""}]
[null,null,{"$f":"IF(KINOU_Data!C24=\"\",\"\",KINOU_Data!C24)","v":""}]
[null,null,{"$f":"IF(KINOU_Data!C25=\"\",\"\",KINOU_Data!C25)","v":""}]

{"sheet":"KINOU4","index":24,"n_rows":38,"n_cols":10,"rows_kept":38,"cut":false,"hidden":false,"merged":[[32,8,33,10],[34,8,35,10],[35,1,38,1],[36,8,37,10],[5,3,11,4],[14,3,20,4],[23,3,29,4],[32,3,38,4],[23,8,24,10],[25,8,26,10],[26,1,29,1],[27,8,28,10],[31,3,31,4],[31,8,31,10],[13,3,13,4],[14,8,15,10],[16,8,17,10],[17,1,20,1],[18,8,19,10],[22,3,22,4],[22,8,22,10],[0,0,0,2],[8,1,11,1],[9,9,10,9],[11,9,12,9],[3,8,3,9],[4,3,4,4],[4,8,4,9],[5,9,6,9],[7,9,8,9]]}
["４．　分析"]
[null,null,"対象児番号：",null,"担当/学校：","入力年月日："]
[]
[null,null,null,null,null,null,null,null,"左から最も困っている場面の枠を選ぶ"]
[null,1,"A　どんな場面","B　どんな行動",null,"C　どんな結果",null,null,"困った行動の機能"]
[null,null,{"$f":"IF(KINOU_Data!C2=\"\", \"\", KINOU_Data!C2)","v":""},{"$f":"IF(KINOU_Data!D2=\"\",\"\",KINOU_Data!D2)","v":""},null,{"$f":"IF(KINOU_Data!F2=\"\",\"\",KINOU_Data!F2)","v":""},null,null,null,"課題がうながされる場面や状況で、その行動をすると、課題をしなく済む"]
[null,null,"A　どんな状況",null,null,{"$f":"IF(KINOU_Data!F3=\"\",\"\",KINOU_Data!F3)","v":""}]
[null,null,{"$f":"IF(KINOU_Data!C4=\"\",\"\",KINOU_Data!C4)","v":""},null,null,{"$f":"IF(KINOU_Data!F4=\"\",\"\",KINOU_Data!F4)","v":""},null,null,null,"注目されていない場面や状況で、その行動をすると、注目やかかわりが得られる"]
[null,"選択する",{"$f":"IF(KINOU_Data!C5=\"\",\"\",KINOU_Data!C5)","v":""},null,null,{"$f":"IF(KINOU_Data!F5=\"\",\"\",KINOU_Data!F5)","v":""}]
[null,null,{"$f":"IF(KINOU_Data!C6=\"\",\"\",KINOU_Data!C6)","v":""},null,null,null,null,null,null,"欲しい物やしたい活動ができない場面や状況で、その行動をすると、それらが得られる"]
[null,null,{"$f":"IF(KINOU_Data!C7=\"\",\"\",KINOU_Data!C7)","v":""}]
[null,null,null,null,null,null,null,null,null,"することがない場面や状況で、その行動をすると、感覚刺激が得られる"]
[null,null,null,null,2]
[null,2,"A　どんな場面","B　どんな行動",null,"C　どんな結果"]
[null,null,{"$f":"IF(KINOU_Data!C11=\"\", \"\", KINOU_Data!C11)","v":""},{"$f":"IF(KINOU_Data!D11=\"\",\"\",KINOU_Data!D11)","v":""},null,{"$f":"IF(KINOU_Data!F11=\"\",\"\",KINOU_Data!F11)","v":""}]
[null,null,"A　どんな状況"]
[null,null,{"$f":"IF(KINOU_Data!C13=\"\",\"\",KINOU_Data!C13)","v":""}]
[null,"選択する",{"$f":"IF(KINOU_Data!C14=\"\",\"\",KINOU_Data!C14)","v":""}]
[null,null,{"$f":"IF(KINOU_Data!C15=\"\",\"\",KINOU_Data!C15)","v":""}]
[null,null,{"$f":"IF(KINOU_Data!C16=\"\",\"\",KINOU_Data!C16)","v":""}]
[]
[]
[null,3,"A　どんな場面","B　どんな行動",null,"C　どんな結果"]
[null,null,{"$f":"IF(KINOU_Data!C20=\"\", \"\", KINOU_Data!C20)","v":""},{"$f":"IF(KINOU_Data!D20=\"\",\"\",KINOU_Data!D20)","v":""},null,{"$f":"IF(KINOU_Data!F20=\"\",\"\",KINOU_Data!F20)","v":""}]
[null,null,"A　どんな状況"]
[null,null,{"$f":"IF(KINOU_Data!C22=\"\",\"\",KINOU_Data!C22)","v":""}]
[null,"選択する",{"$f":"IF(KINOU_Data!C23=\"\",\"\",KINOU_Data!C23)","v":""}]
[null,null,{"$f":"IF(KINOU_Data!C24=\"\",\"\",KINOU_Data!C24)","v":""}]
[null,null,{"$f":"IF(KINOU_Data!C25=\"\",\"\",KINOU_Data!C25)","v":""}]
[]
[]
[null,4,"A　どんな場面","B　どんな行動",null,"C　どんな結果"]
[null,null,{"$f":"IF(KINOU_Data!C29=\"\", \"\", KINOU_Data!C29)","v":""},{"$f":"IF(KINOU_Data!D29=\"\",\"\",KINOU_Data!D29)","v":""},null,{"$f":"IF(KINOU_Data!F29=\"\",\"\",KINOU_Data!F29)","v":""}]
[null,null,"A　どんな状況",null,null,{"$f":"IF(KINOU_Data!F30=\"\",\"\",KINOU_Data!F30)","v":""}]
[null,null,{"$f":"IF(KINOU_Data!C31=\"\",\"\",KINOU_Data!C31)","v":""},null,null,{"$f":"IF(KINOU_Data!F31=\"\",\"\",KINOU_Data!F31)","v":""}]
[null,"選択する",{"$f":"IF(KINOU_Data!C32=\"\",\"\",KINOU_Data!C32)","v":""},null,null,{"$f":"IF(KINOU_Data!F32=\"\",\"\",KINOU_Data!F32)","v":""}]
[null,null,{"$f":"IF(KINOU_Data!C33=\"\",\"\",KINOU_Data!C33)","v":""}]
[null,null,{"$f":"IF(KINOU_Data!C34=\"\",\"\",KINOU_Data!C34)","v":""}]

{"sheet":"SHIEN1","index":25,"n_rows":49,"n_cols":9,"rows_kept":49,"cut":false,"hidden":false,"merged":[[24,1,24,2],[26,1,26,2],[28,4,28,6],[0,0,0,1],[9,1,9,2],[27,1,27,2],[10,1,10,2],[11,1,11,2],[12,1,12,2],[13,1,13,2],[14,1,14,2],[15,1,15,2],[16,1,16,2],[17,1,17,2],[18,1,18,2],[20,4,20,8],[19,1,19,2],[20,1,20,2],[21,1,21,2],[22,1,22,2],[23,1,23,2]]}
["5.支援"]
[]
[]
[null,"困りが生じる場面","授業場面"]
[null,"困りが生じる状況","指示や説明を聞く時\r\n集団の活動に参加する時\r\n注目されない時\r\n\r\n\r\n",null,null,1]
[null,"困りの現れ方（どんな行動がみられるか）","【逸脱】\r\n　すべきことをしない\r\n　指示されたことではない他のことをする\r\n"]
[null,"その行動をしたら生じる結果","　注目：先生や友達が注目する、かかわる （注意も含む）\r\n\r\n\r\n\r\n"]
[null,"困りの意味","注目：注目されていない場面や状況で、その行動をすると、注目やかかわりが得られる\r\n"]
[]
[null,"支援の方法"]
[null,"「注目獲得機能」への有効な支援"]
[null,"※適切な行動で注目を得られるようにする"]
[]
[]
[]
[]
[]
[]
[]
[]
[null,null,null,null,"支援の効果"]
[null,null,null,null,"困った行動","0減少",null,"望ましい行動","0減少"]
[null,null,null,null,null,"1変化なし",null,null,"1変化なし"]
[null,null,null,null,null,"2増加",null,null,"2増加"]
[null,null,null,null,null,"0減少",null,null,"2増加"]
[]
[]
[null,"自由記述欄(入力できます)：現在している教材の準備をほめる。プリントを配布する係にして配布したらほめる。"]
[]
[null,null,null,null,2,"始めの月",9]
[null,null,null,null,1,"始めの日","2020-09-18"]
[]
[null,null,null,null,"期間","回数","程度","期間","程度"]
[null,null,null,null,{"$f":"IF($E$30=1,$G$30&\"月\",TEXT($G$31,\"m/d\")&\"～\")","v":"9/18～"},7,null,{"$f":"E34","v":"9/18～"},2]
[null,null,null,null,{"$f":"IF($E$30=1,IF($G$30+1>12,$G$30-11,$G$30+1)&\"月\",TEXT($G31+7,\"m/d\")&\"～\")","v":"9/25～"},5,null,{"$f":"E35","v":"9/25～"},1]
[null,null,null,null,{"$f":"IF($E$30=1,IF($G$30+2>12,$G$30-10,$G$30+2)&\"月\",TEXT($G$31+14,\"m/d\")&\"～\")","v":"10/2～"},4,null,"10/2～",2]
[null,null,null,null,{"$f":"IF($E$30=1,IF($G$30+3>12,$G$30-9,$G$30+3)&\"月\",TEXT($G$31+21,\"m/d\")&\"～\")","v":"10/9～"},5,null,"10/9～",3]
[null,null,null,null,{"$f":"IF($E$30=1,IF($G$30+4>12,$G$30-8,$G$30+4)&\"月\",TEXT($G$31+28,\"m/d\")&\"～\")","v":"10/16～"},3,null,"10/16～",3]
[null,null,null,null,{"$f":"IF($E$30=1,IF($G$30+5>12,$G$30-7,$G$30+5)&\"月\",TEXT($G$31+35,\"m/d\")&\"～\")","v":"10/23～"},2,null,"10/23～",4]
[null,null,null,null,{"$f":"IF($E$30=1,IF($G$30+6>12,$G$30-6,$G$30+6)&\"月\",TEXT($G$31+42,\"m/d\")&\"～\")","v":"10/30～"},2,null,"10/30～",3]
[null,null,null,null,{"$f":"IF($E$30=1,IF($G$30+7>12,$G$30-5,$G$30+7)&\"月\",TEXT($G$31+49,\"m/d\")&\"～\")","v":"11/6～"},1,null,"11/6～",4]
[null,null,null,null,{"$f":"IF($E$30=1,IF($G$30+8>12,$G$30-4,$G$30+8)&\"月\",TEXT($G$31+56,\"m/d\")&\"～\")","v":"11/13～"},0,null,"11/13～",4]
[null,null,null,null,{"$f":"IF($E$30=1,IF($G$30+9>12,$G$30-3,$G$30+9)&\"月\",TEXT($G$31+63,\"m/d\")&\"～\")","v":"11/20～"},0,null,"11/20～",4]
[null,null,null,null,{"$f":"IF($E$30=1,IF($G$30+10>12,$G$30-2,$G$30+10)&\"月\",TEXT($G$31+70,\"m/d\")&\"～\")","v":"11/27～"},0,null,"11/27～",4]
[null,null,null,null,{"$f":"IF($E$30=1,IF($G$30+11>12,$G$30-1,$G$30+11)&\"月\",TEXT($G$31+77,\"m/d\")&\"～\")","v":"12/4～"},0,null,"12/4～",4]
[null,null,null,null,null,null,"0 なし",null,"4：できる"]
[null,null,null,null,null,null,"1 軽微",null,"3：できることもある"]
[null,null,null,null,null,null,"2 中程度",null,"2：支援があればできる"]
[null,null,null,null,null,null,"3 激しい",null,"1：できない"]

{"sheet":"SHIEN2","index":26,"n_rows":66,"n_cols":9,"rows_kept":66,"cut":false,"hidden":false,"merged":[[37,4,37,8],[41,1,41,2],[43,1,43,2],[44,1,44,2],[34,1,34,2],[35,1,35,2],[36,1,36,2],[45,4,45,6],[10,1,10,2],[11,1,11,2],[12,1,12,2],[13,1,13,2],[14,1,14,2],[15,1,15,2],[16,1,16,2],[17,1,17,2],[18,1,18,2],[38,1,38,2],[39,1,39,2],[40,1,40,2],[37,1,37,2],[31,1,31,2],[32,1,32,2],[33,1,33,2],[0,0,0,1],[9,1,9,2],[27,1,27,2],[28,1,28,2],[29,1,29,2],[30,1,30,2],[23,1,23,2],[24,1,24,2],[26,1,26,2],[19,1,19,2],[20,1,20,2],[21,1,21,2],[22,1,22,2]]}
["5.支援"]
[]
[]
[null,"困りが生じる場面","なし"]
[null,"困りが生じる状況","なし\r\n\r\n\r\n\r\n",null,null,2]
[null,"困りの現れ方（どんな行動がみられるか）","なし\r\n\r\n\r\n\r\n"]
[null,"その行動をしたら生じる結果","なし\r\n\r\n\r\n"]
[null,"困りの意味","逃避：課題がうながされる場面や状況で、その行動をすると、課題をしなく済む\r\n感覚刺激：することがない場面や状況で、その行動をすると、感覚刺激が得られる\r\n\r\n"]
[]
[null,"支援の方法"]
[null,"「逃避機能」への有効な支援"]
[null,"※嫌（苦手）な状況を取り組みやすい状況に変える"]
[]
[]
[]
[]
[]
[]
[]
[]
[]
[]
[]
[]
[]
[]
[]
[null,"「感覚刺激」への有効な支援"]
[]
[]
[null,null,null,null,null,null,"2021-01-13"]
[]
[]
[]
[]
[]
[]
[null,null,null,null,"支援の効果"]
[null,null,null,null,"困った行動","0減少",null,"望ましい行動","0減少"]
[null,null,null,null,null,"1変化なし",null,null,"1変化なし"]
[null,null,null,null,null,"2増加",null,null,"2増加"]
[]
[]
[]
[null,"自由記述欄(入力できます)："]
[]
[null,null,null,null,1,"始めの月",9]
[null,null,null,null,1,"始めの日","2020-09-18"]
[]
[null,null,null,null,"期間","回数","程度","期間","程度"]
[null,null,null,null,{"$f":"IF($E$47=1,$G$47&\"月\",TEXT($G$48,\"m/d\")&\"～\")","v":"9月"},7,null,{"$f":"E51","v":"9月"},2]
[null,null,null,null,{"$f":"IF($E$47=1,IF($G$47+1>12,$G$47-11,$G$47+1)&\"月\",TEXT($G48+7,\"m/d\")&\"～\")","v":"10月"},5,null,{"$f":"E52","v":"10月"},1]
[null,null,null,null,{"$f":"IF($E$47=1,IF($G$47+2>12,$G$47-10,$G$47+2)&\"月\",TEXT($G$48+14,\"m/d\")&\"～\")","v":"11月"},4,null,"11月",2]
[null,null,null,null,{"$f":"IF($E$47=1,IF($G$47+3>12,$G$47-9,$G$47+3)&\"月\",TEXT($G$48+21,\"m/d\")&\"～\")","v":"12月"},5,null,"12月",3]
[null,null,null,null,{"$f":"IF($E$47=1,IF($G$47+4>12,$G$47-8,$G$47+4)&\"月\",TEXT($G$48+28,\"m/d\")&\"～\")","v":"1月"},3,null,"1月",3]
[null,null,null,null,{"$f":"IF($E$47=1,IF($G$47+5>12,$G$47-7,$G$47+5)&\"月\",TEXT($G$48+35,\"m/d\")&\"～\")","v":"2月"},2,null,"2月",4]
[null,null,null,null,{"$f":"IF($E$47=1,IF($G$47+6>12,$G$47-6,$G$47+6)&\"月\",TEXT($G$48+42,\"m/d\")&\"～\")","v":"3月"},2,null,"3月",3]
[null,null,null,null,{"$f":"IF($E$47=1,IF($G$47+7>12,$G$47-5,$G$47+7)&\"月\",TEXT($G$48+49,\"m/d\")&\"～\")","v":"4月"},1,null,"4月",4]
[null,null,null,null,{"$f":"IF($E$47=1,IF($G$47+8>12,$G$47-4,$G$47+8)&\"月\",TEXT($G$48+56,\"m/d\")&\"～\")","v":"5月"},0,null,"5月",4]
[null,null,null,null,{"$f":"IF($E$47=1,IF($G$47+9>12,$G$47-3,$G$47+9)&\"月\",TEXT($G$48+63,\"m/d\")&\"～\")","v":"6月"},0,null,"6月",4]
[null,null,null,null,{"$f":"IF($E$47=1,IF($G$47+10>12,$G$47-2,$G$47+10)&\"月\",TEXT($G$48+70,\"m/d\")&\"～\")","v":"7月"},0,null,"7月",4]
[null,null,null,null,{"$f":"IF($E$47=1,IF($G$47+11>12,$G$47-1,$G$47+11)&\"月\",TEXT($G$48+77,\"m/d\")&\"～\")","v":"8月"},0,null,"8月",4]
[null,null,null,null,null,null,"0 なし",null,"4：できる"]
[null,null,null,null,null,null,"1 軽微",null,"3：できることもある"]
[null,null,null,null,null,null,"2 中程度",null,"2：支援があればできる"]
[null,null,null,null,null,null,"3 激しい",null,"1：できない"]

{"sheet":"SHIEN3","index":27,"n_rows":83,"n_cols":9,"rows_kept":83,"cut":false,"hidden":false,"merged":[[0,0,0,1],[43,1,43,2],[36,1,36,2],[37,1,37,2],[38,1,38,2],[39,1,39,2],[40,1,40,2],[41,1,41,2],[35,1,35,2],[23,1,23,2],[24,1,24,2],[26,1,26,2],[27,1,27,2],[28,1,28,2],[29,1,29,2],[34,1,34,2],[62,4,62,6],[56,1,56,2],[57,1,57,2],[58,1,58,2],[60,1,60,2],[61,1,61,2],[55,1,55,2],[54,1,54,2],[48,1,48,2],[49,1,49,2],[50,1,50,2],[51,1,51,2],[52,1,52,2],[53,1,53,2],[54,4,54,8],[13,1,13,2],[14,1,14,2],[31,1,31,2],[32,1,32,2],[33,1,33,2],[30,1,30,2],[9,1,9,2],[44,1,44,2],[45,1,45,2],[46,1,46,2],[47,1,47,2],[19,1,19,2],[20,1,20,2],[21,1,21,2],[22,1,22,2],[15,1,15,2],[16,1,16,2],[17,1,17,2],[18,1,18,2],[10,1,10,2],[11,1,11,2],[12,1,12,2]]}
["5.支援"]
[]
[]
[null,"困りが生じる場面","授業場面"]
[null,"困りが生じる状況","刺激となる音や物がある時\r\n失敗したとき\r\n考える課題の時\r\n発表する時\r\n嫌（苦手）なことを促される時\r\n",null,null,1]
[null,"困りの現れ方（どんな行動がみられるか）","【勝手な行動】\r\n　わざと目立つ行動をする\r\n【取り組まない】\r\n　指示されたことではない他のことをする\r\n【不適切な会話】\r\n　自分が言いたいことを状況に関係なく話す\r\n【かかわり】\r\n　相手の気持ちが理解しにくい\r\n【興奮】\r\n　おもいどおりにならないとかんしゃく\r\n【乱暴】\r\n　いらいらするとたたいたり、壁を蹴る\r\n【立ち歩き】\r\n　突然、席を離れ、他のことをする\r\n【落ち着きがない】\r\n　気が散りやすく、しゅうちゅうできない\r\n【指示理解】\r\n　自分の世界に閉じこもり、指示が聞けない\r\n【こだわり】\r\n　行動の一つ一つを確認してからしか動けない\r\n【行動が送れる】\r\n　時間内に作業ができず大幅に送れる\r\n"]
[null,"その行動をしたら生じる結果","  逃避：課題や活動が中断したり、しなくて済む。嫌な注目やかかわり、刺激を避けられる\r\n　物活動：欲しい物が得られた李、したい活動ができる\r\n\r\n\r\n"]
[null,"困りの意味","逃避：課題がうながされる場面や状況で、その行動をすると、課題をしなく済む\r\n物欲求：欲しい物やしたい活動ができない場面や状況で、その行動をすると、それらが得られる\r\n感覚刺激：することがない場面や状況で、その行動をすると、感覚刺激が得られる\r\n"]
[]
[null,"支援の方法"]
[null,"「逃避機能」への有効な支援"]
[null,"※嫌（苦手）な状況を取り組みやすい状況に変える"]
[]
[]
[]
[]
[]
[]
[]
[]
[]
[]
[]
[]
[]
[]
[]
[null,"「物要求機能」への有効な支援"]
[null,"※適切な行動で要求できるようにする"]
[]
[null,null,null,null,null,null,"2020-10-22"]
[]
[]
[]
[]
[]
[]
[]
[]
[]
[]
[]
[]
[]
[null,"「感覚刺激」への有効な支援"]
[]
[]
[]
[]
[]
[]
[]
[]
[]
[null,null,null,null,"支援の効果"]
[null,null,null,null,"困った行動","0減少",null,"望ましい行動","0減少"]
[null,null,null,null,null,"1変化なし",null,null,"1変化なし"]
[null,null,null,null,null,"2増加",null,null,"2増加"]
[null,null,null,null,null,"1変化なし",null,null,"2増加"]
[]
[]
[null,"自由記述欄(入力できます)："]
[]
[null,null,null,null,2,"始めの月",6]
[null,null,null,null,1,"始めの日","2020-09-18"]
[]
[null,null,null,null,"期間","回数","程度","期間","程度"]
[null,null,null,null,{"$f":"IF($E$64=1,$G$64&\"月\",TEXT($G$65,\"m/d\")&\"～\")","v":"9/18～"},1,0,{"$f":"E68","v":"9/18～"},1]
[null,null,null,null,{"$f":"IF($E$64=1,IF($G$64+1>12,$G$64-11,$G$64+1)&\"月\",TEXT($G65+7,\"m/d\")&\"～\")","v":"9/25～"},1,0,{"$f":"E69","v":"9/25～"},2]
[null,null,null,null,{"$f":"IF($E$64=1,IF($G$64+2>12,$G$64-10,$G$64+2)&\"月\",TEXT($G$65+14,\"m/d\")&\"～\")","v":"10/2～"},1,0,"10/2～",1]
[null,null,null,null,{"$f":"IF($E$64=1,IF($G$64+3>12,$G$64-9,$G$64+3)&\"月\",TEXT($G$65+21,\"m/d\")&\"～\")","v":"10/9～"},2,1,"10/9～",3]
[null,null,null,null,{"$f":"IF($E$64=1,IF($G$64+4>12,$G$64-8,$G$64+4)&\"月\",TEXT($G$65+28,\"m/d\")&\"～\")","v":"10/16～"},3,1,"10/16～",2]
[null,null,null,null,{"$f":"IF($E$64=1,IF($G$64+5>12,$G$64-7,$G$64+5)&\"月\",TEXT($G$65+35,\"m/d\")&\"～\")","v":"10/23～"},2,1,"10/23～",4]
[null,null,null,null,{"$f":"IF($E$64=1,IF($G$64+6>12,$G$64-6,$G$64+6)&\"月\",TEXT($G$65+42,\"m/d\")&\"～\")","v":"10/30～"},2,2,"10/30～",3]
[null,null,null,null,{"$f":"IF($E$64=1,IF($G$64+7>12,$G$64-5,$G$64+7)&\"月\",TEXT($G$65+49,\"m/d\")&\"～\")","v":"11/6～"},2,2,"11/6～",2]
[null,null,null,null,{"$f":"IF($E$64=1,IF($G$64+8>12,$G$64-4,$G$64+8)&\"月\",TEXT($G$65+56,\"m/d\")&\"～\")","v":"11/13～"},2,2,"11/13～",1]
[null,null,null,null,{"$f":"IF($E$64=1,IF($G$64+9>12,$G$64-3,$G$64+9)&\"月\",TEXT($G$65+63,\"m/d\")&\"～\")","v":"11/20～"},3,0,"11/20～",2]
[null,null,null,null,{"$f":"IF($E$64=1,IF($G$64+10>12,$G$64-2,$G$64+10)&\"月\",TEXT($G$65+70,\"m/d\")&\"～\")","v":"11/27～"},3,0,"11/27～",3]
[null,null,null,null,{"$f":"IF($E$64=1,IF($G$64+11>12,$G$64-1,$G$64+11)&\"月\",TEXT($G$65+77,\"m/d\")&\"～\")","v":"12/4～"},3,3,"12/4～",2]
[null,null,null,null,null,null,"0 なし",null,"4：できる"]
[null,null,null,null,null,null,"1 軽微",null,"3：できることもある"]
[null,null,null,null,null,null,"2 中程度",null,"2：支援があればできる"]
[null,null,null,null,null,null,"3 激しい",null,"1：できない"]

{"sheet":"SHIEN4","index":28,"n_rows":100,"n_cols":9,"rows_kept":100,"cut":false,"hidden":false,"merged":[[71,4,71,8],[28,1,28,2],[55,1,55,2],[56,1,56,2],[57,1,57,2],[29,1,29,2],[30,1,30,2],[31,1,31,2],[32,1,32,2],[71,1,71,2],[65,1,65,2],[33,1,33,2],[34,1,34,2],[35,1,35,2],[36,1,36,2],[37,1,37,2],[51,1,51,2],[39,1,39,2],[40,1,40,2],[41,1,41,2],[43,1,43,2],[44,1,44,2],[45,1,45,2],[46,1,46,2],[47,1,47,2],[66,1,66,2],[67,1,67,2],[68,1,68,2],[69,1,69,2],[70,1,70,2],[79,4,79,6],[72,1,72,2],[73,1,73,2],[74,1,74,2],[75,1,75,2],[77,1,77,2],[78,1,78,2],[64,1,64,2],[18,1,18,2],[19,1,19,2],[20,1,20,2],[21,1,21,2],[38,1,38,2],[48,1,48,2],[49,1,49,2],[50,1,50,2],[58,1,58,2],[60,1,60,2],[52,1,52,2],[53,1,53,2],[54,1,54,2],[22,1,22,2],[23,1,23,2],[0,0,0,1],[9,1,9,2],[61,1,61,2],[62,1,62,2],[63,1,63,2],[10,1,10,2],[11,1,11,2],[12,1,12,2],[13,1,13,2],[14,1,14,2],[15,1,15,2],[16,1,16,2],[17,1,17,2],[24,1,24,2],[26,1,26,2],[27,1,27,2]]}
["5.支援"]
[]
[]
[null,"困りが生じる場面","かかり活動"]
[null,"困りが生じる状況","注意されたり、叱られた時\r\nすることがない時\r\nテスト\r\n\r\n\r\n",null,null,1]
[null,"困りの現れ方（どんな行動がみられるか）","【不適切な会話】\r\n　自分が言いたいことを状況に関係なく話す\r\n【指示理解】\r\n　自分の世界に閉じこもり、指示が聞けない\r\n"]
[null,"その行動をしたら生じる結果","　感覚刺激：感覚刺激が得られる\r\n\r\n\r\n\r\n"]
[null,"困りの意味","逃避：課題がうながされる場面や状況で、その行動をすると、課題をしなく済む\r\n注目：注目されていない場面や状況で、その行動をすると、注目やかかわりが得られる\r\n物欲求：欲しい物やしたい活動ができない場面や状況で、その行動をすると、それらが得られる\r\n感覚刺激：することがない場面や状況で、その行動をすると、感覚刺激が得られる\r\n"]
[]
[null,"支援の方法"]
[null,"「逃避機能」への有効な支援"]
[null,"※嫌（苦手）な状況を取り組みやすい状況に変える"]
[]
[]
[]
[]
[]
[]
[]
[]
[]
[]
[]
[]
[]
[]
[]
[null,"「注目獲得機能」への有効な支援"]
[null,"※適切な行動で注目を得られるようにする"]
[]
[null,null,null,null,null,null,"2020-09-22"]
[]
[]
[]
[]
[]
[]
[]
[]
[]
[]
[]
[]
[]
[null,"「物要求機能」への有効な支援"]
[null,"※適切な行動で要求できるようにする"]
[]
[]
[]
[]
[]
[]
[]
[]
[]
[]
[]
[]
[]
[]
[]
[null,"「感覚刺激」への有効な支援"]
[]
[]
[]
[]
[]
[]
[]
[]
[]
[null,null,null,null,"支援の効果"]
[null,null,null,null,"困った行動","0減少",null,"望ましい行動","0減少"]
[null,null,null,null,null,"1変化なし",null,null,"1変化なし"]
[null,null,null,null,null,"2増加",null,null,"2増加"]
[null,null,null,null,null,"2増加",null,null,"2増加"]
[]
[]
[null,"自由記述欄(入力できます)："]
[]
[null,null,null,null,2,"始めの月",7]
[null,null,null,null,1,"始めの日","2020-09-22"]
[]
[null,null,null,null,"期間","回数","程度","期間","程度"]
[null,null,null,null,{"$f":"IF($E$81=1,$G$81&\"月\",TEXT($G$82,\"m/d\")&\"～\")","v":"9/22～"},null,null,{"$f":"E85","v":"9/22～"}]
[null,null,null,null,{"$f":"IF($E$81=1,IF($G$81+1>12,$G$81-11,$G$81+1)&\"月\",TEXT($G82+7,\"m/d\")&\"～\")","v":"9/29～"},null,null,{"$f":"E86","v":"9/29～"}]
[null,null,null,null,{"$f":"IF($E$81=1,IF($G$81+2>12,$G$81-10,$G$81+2)&\"月\",TEXT($G$82+14,\"m/d\")&\"～\")","v":"10/6～"},null,null,"10/6～"]
[null,null,null,null,{"$f":"IF($E$81=1,IF($G$81+3>12,$G$81-9,$G$81+3)&\"月\",TEXT($G$82+21,\"m/d\")&\"～\")","v":"10/13～"},null,null,"10/13～"]
[null,null,null,null,{"$f":"IF($E$81=1,IF($G$81+4>12,$G$81-8,$G$81+4)&\"月\",TEXT($G$82+28,\"m/d\")&\"～\")","v":"10/20～"},null,null,"10/20～"]
[null,null,null,null,{"$f":"IF($E$81=1,IF($G$81+5>12,$G$81-7,$G$81+5)&\"月\",TEXT($G$82+35,\"m/d\")&\"～\")","v":"10/27～"},null,null,"10/27～"]
[null,null,null,null,{"$f":"IF($E$81=1,IF($G$81+6>12,$G$81-6,$G$81+6)&\"月\",TEXT($G$82+42,\"m/d\")&\"～\")","v":"11/3～"},null,null,"11/3～"]
[null,null,null,null,{"$f":"IF($E$81=1,IF($G$81+7>12,$G$81-5,$G$81+7)&\"月\",TEXT($G$82+49,\"m/d\")&\"～\")","v":"11/10～"},null,null,"11/10～"]
[null,null,null,null,{"$f":"IF($E$81=1,IF($G$81+8>12,$G$81-4,$G$81+8)&\"月\",TEXT($G$82+56,\"m/d\")&\"～\")","v":"11/17～"},null,null,"11/17～"]
[null,null,null,null,{"$f":"IF($E$81=1,IF($G$81+9>12,$G$81-3,$G$81+9)&\"月\",TEXT($G$82+63,\"m/d\")&\"～\")","v":"11/24～"},null,null,"11/24～"]
[null,null,null,null,{"$f":"IF($E$81=1,IF($G$81+10>12,$G$81-2,$G$81+10)&\"月\",TEXT($G$82+70,\"m/d\")&\"～\")","v":"12/1～"},null,null,"12/1～"]
[null,null,null,null,{"$f":"IF($E$81=1,IF($G$81+11>12,$G$81-1,$G$81+11)&\"月\",TEXT($G$82+77,\"m/d\")&\"～\")","v":"12/8～"},null,null,"12/8～"]
[null,null,null,null,null,null,"0 なし",null,"4：できる"]
[null,null,null,null,null,null,"1 軽微",null,"3：できることもある"]
[null,null,null,null,null,null,"2 中程度",null,"2：支援があればできる"]
[null,null,null,null,null,null,"3 激しい",null,"1：できない"]